BEGIN:VCALENDAR
VERSION:2.0
PRODID:gruene-amberg-sulzbach.de
METHOD:PUBLISH
BEGIN:VTIMEZONE
TZID:Europe/Berlin
X-LIC-LOCATION:Europe/Berlin
BEGIN:DAYLIGHT
TZOFFSETFROM:+0100
TZOFFSETTO:+0200
TZNAME:CEST
DTSTART:19700329T020000
RRULE:FREQ=YEARLY;INTERVAL=1;BYDAY=-1SU;BYMONTH=3
END:DAYLIGHT
BEGIN:STANDARD
TZOFFSETFROM:+0200
TZOFFSETTO:+0100
TZNAME:CET
DTSTART:19701025T030000
RRULE:FREQ=YEARLY;INTERVAL=1;BYDAY=-1SU;BYMONTH=10
END:STANDARD
END:VTIMEZONE
BEGIN:VEVENT
UID:5d6dae66e25e7112e90a88a87182ead3@gruene-amberg-sulzbach.de
URL;VALUE=URI:https://gruene-amberg-sulzbach.de/termine/aufstellungsversa
 mmlung-ortsgruppe-etzelwang/
LOCATION:Evangelisches Gemeindehaus Etzelwang, Kirchengasse 6, 92268 Etze
 lwang
SUMMARY:Aufstellungsversammlung Ortsgruppe Etzelwang
DESCRIPTION;ALTREP="data:text/html,%0A%3Cp%3EDie%20Mitglieder%20und%20Unt
 erst%C3%BCtzer%2Ainnen%20von%20B%C3%9CNDNIS%2090%2FDIE%20GR%C3%9CNEN%20in
 %20Etzelwang%20haben%20sich%20entschlossen%2C%20bei%20der%3Cstrong%3E%20K
 ommunalwahl%20am%2008.03.2026%20%3C%2Fstrong%3Emit%20einer%20Liste%20f%C3
 %BCr%20den%20Gemeinderat%20anzutreten.%3C%2Fp%3E%0A%0A%0A%0A%3Cp%3E%3Cstr
 ong%3EDie%20Aufstellungsversammlung%20wird%20am%2020.10.2025%20um%2019%20
 Uhr%20im%20Evangelischen%20Gemeindehaus%20Etzelwang%20stattfinden%3C%2Fst
 rong%3E.%3C%2Fp%3E%0A%0A%0A%0A%3Cp%3E%3C%2Fp%3E%0A%0A%0A%0A%3Cp%3E%3C%2Fp
 %3E%0A":Die Mitglieder und Unterstützer*innen von BÜNDNIS 90/DIE GRÜNE
 N in Etzelwang haben sich entschlossen\, bei der Kommunalwahl am 08.03.20
 26 mit einer Liste für den Gemeinderat anzutreten.\n\nDie Aufstellungsve
 rsammlung wird am 20.10.2025 um 19 Uhr im Evangelischen Gemeindehaus Etze
 lwang stattfinden.
CLASS:PUBLIC
DTSTART;TZID=Europe/Berlin:20251020T190000
DTEND;TZID=Europe/Berlin:20251020T200000
DTSTAMP:20260422T160112
END:VEVENT
END:VCALENDAR