BEGIN:VCALENDAR
VERSION:2.0
PRODID:gruene-amberg-sulzbach.de
METHOD:PUBLISH
BEGIN:VTIMEZONE
TZID:Europe/Berlin
X-LIC-LOCATION:Europe/Berlin
BEGIN:DAYLIGHT
TZOFFSETFROM:+0100
TZOFFSETTO:+0200
TZNAME:CEST
DTSTART:19700329T020000
RRULE:FREQ=YEARLY;INTERVAL=1;BYDAY=-1SU;BYMONTH=3
END:DAYLIGHT
BEGIN:STANDARD
TZOFFSETFROM:+0200
TZOFFSETTO:+0100
TZNAME:CET
DTSTART:19701025T030000
RRULE:FREQ=YEARLY;INTERVAL=1;BYDAY=-1SU;BYMONTH=10
END:STANDARD
END:VTIMEZONE
BEGIN:VEVENT
UID:32e7d49f42bdfc1b68c84642e182a671@gruene-amberg-sulzbach.de
URL;VALUE=URI:https://gruene-amberg-sulzbach.de/termine/bezirksversammlun
 g-2/
LOCATION:
SUMMARY:Bezirksversammlung
DESCRIPTION;ALTREP="data:text/html,":
CLASS:PUBLIC
DTSTART;TZID=Europe/Berlin:20260619T180000
DTEND;TZID=Europe/Berlin:20260619T190000
DTSTAMP:20260422T141850
END:VEVENT
END:VCALENDAR